BEGIN:VCALENDAR
VERSION:2.0
PRODID:-//Tom Washatka - ECPv6.0.1.1//NONSGML v1.0//EN
CALSCALE:GREGORIAN
METHOD:PUBLISH
X-ORIGINAL-URL:https://www.tomwashatka.com
X-WR-CALDESC:Events for Tom Washatka
REFRESH-INTERVAL;VALUE=DURATION:PT1H
X-Robots-Tag:noindex
X-PUBLISHED-TTL:PT1H
BEGIN:VTIMEZONE
TZID:UTC
BEGIN:STANDARD
TZOFFSETFROM:+0000
TZOFFSETTO:+0000
TZNAME:UTC
DTSTART:20180101T000000
END:STANDARD
END:VTIMEZONE
BEGIN:VEVENT
DTSTART;TZID=UTC:20180606T193000
DTEND;TZID=UTC:20180606T223000
DTSTAMP:20260420T203733
CREATED:20180421T050239Z
LAST-MODIFIED:20180526T203105Z
UID:783-1528313400-1528324200@www.tomwashatka.com
SUMMARY:Becket's w/Jazz Orgy
DESCRIPTION:Great food\, drink and music!
URL:https://www.tomwashatka.com/gigs/beckets-w-jazz-orgy/
LOCATION:Beckets Restaurant\, 2 Jackson st\, Oshkosh\, WI\, 54901\, United States
END:VEVENT
BEGIN:VEVENT
DTSTART;TZID=UTC:20180619T190000
DTEND;TZID=UTC:20180619T210000
DTSTAMP:20260420T203733
CREATED:20180421T045742Z
LAST-MODIFIED:20180526T203420Z
UID:780-1529434800-1529442000@www.tomwashatka.com
SUMMARY:Grand Opera House w/KWT
DESCRIPTION:2% jazz\, 98% funky stuff! All original music.  With special guest Kelvin Kaspar on guitar.
URL:https://www.tomwashatka.com/gigs/grand-opera-house-w-kwt/
LOCATION:Grand Opera House\, 100 High Ave\, Oshkosh\, WI\, 54901\, United States
ATTACH;FMTTYPE=image/jpeg:https://www.tomwashatka.com/wp-content/uploads/2016/11/KWT.jpg
END:VEVENT
BEGIN:VEVENT
DTSTART;TZID=UTC:20180629T200000
DTEND;TZID=UTC:20180629T230000
DTSTAMP:20260420T203733
CREATED:20180421T050921Z
LAST-MODIFIED:20180421T053220Z
UID:786-1530302400-1530313200@www.tomwashatka.com
SUMMARY:Daly's Restaurant w/Tom Washatka Quorum
DESCRIPTION:With Scott Dercks – guitars\, Charlie Sauter – basses and Ryan Korb – drums.  Performing all original music.
URL:https://www.tomwashatka.com/gigs/dalys-restaurant-w-tom-washatka-quorum/
LOCATION:Daly’s Restaurant\, 307 3rd St\, Wausau\, WI\, 54403\, United States
END:VEVENT
END:VCALENDAR