BEGIN:VCALENDAR
VERSION:2.0
PRODID:-//Tom Washatka - ECPv6.0.1.1//NONSGML v1.0//EN
CALSCALE:GREGORIAN
METHOD:PUBLISH
X-WR-CALNAME:Tom Washatka
X-ORIGINAL-URL:https://www.tomwashatka.com
X-WR-CALDESC:Events for Tom Washatka
REFRESH-INTERVAL;VALUE=DURATION:PT1H
X-Robots-Tag:noindex
X-PUBLISHED-TTL:PT1H
BEGIN:VTIMEZONE
TZID:UTC
BEGIN:STANDARD
TZOFFSETFROM:+0000
TZOFFSETTO:+0000
TZNAME:UTC
DTSTART:20180101T000000
END:STANDARD
END:VTIMEZONE
BEGIN:VEVENT
DTSTART;TZID=UTC:20180307T193000
DTEND;TZID=UTC:20180307T223000
DTSTAMP:20260423T031704
CREATED:20180109T220214Z
LAST-MODIFIED:20180421T053452Z
UID:531-1520451000-1520461800@www.tomwashatka.com
SUMMARY:Becket's Restaurant w/Jazz Orgy
DESCRIPTION:  \n \nGreat food\, drink and music!
URL:https://www.tomwashatka.com/gigs/beckets-restaurant-w-jazz-orgy-3/
LOCATION:Beckets Restaurant\, 2 Jackson st\, Oshkosh\, WI\, 54901\, United States
END:VEVENT
BEGIN:VEVENT
DTSTART;TZID=UTC:20180323T200000
DTEND;TZID=UTC:20180323T230000
DTSTAMP:20260423T031704
CREATED:20190716T192851Z
LAST-MODIFIED:20190716T192851Z
UID:989-1521835200-1521846000@www.tomwashatka.com
SUMMARY:The Blue Opus w/Tom Washatka Quorum  Copy
DESCRIPTION:With Scott Dercks – guitars\, Charlie Sauter – basses and Ryan Korb – drums.  Performing all original music.  Also special guest Bill Hill!
URL:https://www.tomwashatka.com/gigs/the-blue-opus-w-tom-washatka-quorum-copy/
LOCATION:The Blue Opus\, 1390 Bellevue St. Suite 110\, Green Bay\, WI\, 54311\, United States
ATTACH;FMTTYPE=image/jpeg:https://www.tomwashatka.com/wp-content/uploads/2016/08/Tom-with-Sax-1.jpg
END:VEVENT
END:VCALENDAR