BEGIN:VCALENDAR
VERSION:2.0
PRODID:-//Tom Washatka - ECPv6.0.1.1//NONSGML v1.0//EN
CALSCALE:GREGORIAN
METHOD:PUBLISH
X-WR-CALNAME:Tom Washatka
X-ORIGINAL-URL:https://www.tomwashatka.com
X-WR-CALDESC:Events for Tom Washatka
REFRESH-INTERVAL;VALUE=DURATION:PT1H
X-Robots-Tag:noindex
X-PUBLISHED-TTL:PT1H
BEGIN:VTIMEZONE
TZID:UTC
BEGIN:STANDARD
TZOFFSETFROM:+0000
TZOFFSETTO:+0000
TZNAME:UTC
DTSTART:20180101T000000
END:STANDARD
END:VTIMEZONE
BEGIN:VEVENT
DTSTART;TZID=UTC:20180113T200000
DTEND;TZID=UTC:20180113T230000
DTSTAMP:20260423T121804
CREATED:20171229T123553Z
LAST-MODIFIED:20180109T215121Z
UID:427-1515873600-1515884400@www.tomwashatka.com
SUMMARY:The Jazz Estate w/the Mike Kubicki Quintet
DESCRIPTION:Performing the music of Horace Silver. \nMike Kubicki – piano\nEric Jacobson – trp\nTom Washatka – saxophone\nJim Paolo – bass\nMike Malone – drums
URL:https://www.tomwashatka.com/gigs/the-jazz-estate-w-the-mike-kubicki-quintet/
LOCATION:The Jazz Estate\, 2423 N Murray Ave\, Milwaukee\, Wisconsin\, 53211\, United States
END:VEVENT
BEGIN:VEVENT
DTSTART;TZID=UTC:20180127T090000
DTEND;TZID=UTC:20180127T220000
DTSTAMP:20260423T121804
CREATED:20180109T215907Z
LAST-MODIFIED:20180109T215907Z
UID:529-1517043600-1517090400@www.tomwashatka.com
SUMMARY:UW-Green Bay Jazz Fest
DESCRIPTION:I’ll be adjudicating and performing. \nFellow judges: \nJose Encarnacion – saxophone\nMarty Robinson – trp\nJohn Daniel – trp\nTim Albright – trb
URL:https://www.tomwashatka.com/gigs/uw-green-bay-jazz-fest/
LOCATION:WI
END:VEVENT
BEGIN:VEVENT
DTSTART;TZID=UTC:20180131T193000
DTEND;TZID=UTC:20180131T223000
DTSTAMP:20260423T121804
CREATED:20180102T022324Z
LAST-MODIFIED:20180102T022324Z
UID:452-1517427000-1517437800@www.tomwashatka.com
SUMMARY:Beckets Restaurant w/Jazz Orgy
DESCRIPTION:Great food\, drink and music!
URL:https://www.tomwashatka.com/gigs/beckets-restaurant-w-jazz-orgy/
LOCATION:Beckets Restaurant\, 2 Jackson st\, Oshkosh\, WI\, 54901\, United States
END:VEVENT
END:VCALENDAR