BEGIN:VCALENDAR
VERSION:2.0
PRODID:-//Tom Washatka - ECPv6.0.1.1//NONSGML v1.0//EN
CALSCALE:GREGORIAN
METHOD:PUBLISH
X-WR-CALNAME:Tom Washatka
X-ORIGINAL-URL:https://www.tomwashatka.com
X-WR-CALDESC:Events for Tom Washatka
REFRESH-INTERVAL;VALUE=DURATION:PT1H
X-Robots-Tag:noindex
X-PUBLISHED-TTL:PT1H
BEGIN:VTIMEZONE
TZID:UTC
BEGIN:STANDARD
TZOFFSETFROM:+0000
TZOFFSETTO:+0000
TZNAME:UTC
DTSTART:20170101T000000
END:STANDARD
END:VTIMEZONE
BEGIN:VEVENT
DTSTART;TZID=UTC:20170704T120000
DTEND;TZID=UTC:20170704T140000
DTSTAMP:20260424T133938
CREATED:20170810T185219Z
LAST-MODIFIED:20170810T185219Z
UID:311-1499169600-1499176800@www.tomwashatka.com
SUMMARY:Milwaukee VA Hospital w/Janet Planet
DESCRIPTION:
URL:https://www.tomwashatka.com/gigs/milwaukee-va-hospital-wjanet-planet/
LOCATION:WI
END:VEVENT
BEGIN:VEVENT
DTSTART;TZID=UTC:20170706T183000
DTEND;TZID=UTC:20170706T203000
DTSTAMP:20260424T133939
CREATED:20170810T185356Z
LAST-MODIFIED:20170810T185356Z
UID:313-1499365800-1499373000@www.tomwashatka.com
SUMMARY:The Source w/Tom Washatka Trio
DESCRIPTION:The Source Menasha
URL:https://www.tomwashatka.com/gigs/the-source-wtom-washatka-trio/
LOCATION:WI
END:VEVENT
BEGIN:VEVENT
DTSTART;TZID=UTC:20170723T173000
DTEND;TZID=UTC:20170723T193000
DTSTAMP:20260424T133939
CREATED:20170810T185603Z
LAST-MODIFIED:20170810T185603Z
UID:315-1500831000-1500838200@www.tomwashatka.com
SUMMARY:Wausau w/The UWSP Jazz Faculty
DESCRIPTION:Jazz In The Park
URL:https://www.tomwashatka.com/gigs/wausau-wthe-uwsp-jazz-faculty/
LOCATION:WI
END:VEVENT
BEGIN:VEVENT
DTSTART;TZID=UTC:20170729T140000
DTEND;TZID=UTC:20170729T153000
DTSTAMP:20260424T133939
CREATED:20170810T185907Z
LAST-MODIFIED:20170810T185907Z
UID:317-1501336800-1501342200@www.tomwashatka.com
SUMMARY:Whistler's Knoll Jazz Fest w/KWT
DESCRIPTION:2% jazz\, 98% funky stuff!  All original music.\nHortonville\, WI
URL:https://www.tomwashatka.com/gigs/whistlers-knoll-jazz-fest-wkwt/
LOCATION:WI
END:VEVENT
END:VCALENDAR