BEGIN:VCALENDAR
VERSION:2.0
PRODID:-//Tom Washatka - ECPv6.0.1.1//NONSGML v1.0//EN
CALSCALE:GREGORIAN
METHOD:PUBLISH
X-ORIGINAL-URL:https://www.tomwashatka.com
X-WR-CALDESC:Events for Tom Washatka
REFRESH-INTERVAL;VALUE=DURATION:PT1H
X-Robots-Tag:noindex
X-PUBLISHED-TTL:PT1H
BEGIN:VTIMEZONE
TZID:UTC
BEGIN:STANDARD
TZOFFSETFROM:+0000
TZOFFSETTO:+0000
TZNAME:UTC
DTSTART:20170101T000000
END:STANDARD
END:VTIMEZONE
BEGIN:VEVENT
DTSTART;TZID=UTC:20170601T180000
DTEND;TZID=UTC:20170601T200000
DTSTAMP:20260424T150444
CREATED:20161227T043939Z
LAST-MODIFIED:20170108T050444Z
UID:240-1496340000-1496347200@www.tomwashatka.com
SUMMARY:Lion’s Tail Brewing Co. w/KWT
DESCRIPTION:2% jazz\, 98% funky stuff!  Lots-o-originals.
URL:https://www.tomwashatka.com/gigs/lions-tail-brewing-co-5/
LOCATION:Lion’s Tail Brewing Co.\, 116 S. Commercial St.\, Neenah\, WI\, 54956\, United States
END:VEVENT
BEGIN:VEVENT
DTSTART;TZID=UTC:20170615T180000
DTEND;TZID=UTC:20170615T200000
DTSTAMP:20260424T150444
CREATED:20161227T044048Z
LAST-MODIFIED:20170108T051035Z
UID:242-1497549600-1497556800@www.tomwashatka.com
SUMMARY:Lion’s Tail Brewing Co. w/KWT
DESCRIPTION:2% jazz\, 98% funky stuff!  Lots-o-originals.
URL:https://www.tomwashatka.com/gigs/lions-tail-brewing-co-6/
LOCATION:Lion’s Tail Brewing Co.\, 116 S. Commercial St.\, Neenah\, WI\, 54956\, United States
END:VEVENT
BEGIN:VEVENT
DTSTART;TZID=UTC:20170628T193000
DTEND;TZID=UTC:20170628T223000
DTSTAMP:20260424T150444
CREATED:20161227T045449Z
LAST-MODIFIED:20170108T051005Z
UID:252-1498678200-1498689000@www.tomwashatka.com
SUMMARY:Beckets Restaurant w/Jazz Orgy
DESCRIPTION:Great food\, drink and music!!
URL:https://www.tomwashatka.com/gigs/beckets-restaurant-wjazz-orgy-6/
LOCATION:Beckets Restaurant\, 2 Jackson st\, Oshkosh\, WI\, 54901\, United States
END:VEVENT
BEGIN:VEVENT
DTSTART;TZID=UTC:20170629T180000
DTEND;TZID=UTC:20170629T200000
DTSTAMP:20260424T150444
CREATED:20161227T044405Z
LAST-MODIFIED:20170108T050335Z
UID:244-1498759200-1498766400@www.tomwashatka.com
SUMMARY:Lion’s Tail Brewing Co. w/KWT
DESCRIPTION:2% jazz\, 98% funky stuff!  Lots-o-originals.
URL:https://www.tomwashatka.com/gigs/lions-tail-brewing-co-7/
LOCATION:WI
END:VEVENT
BEGIN:VEVENT
DTSTART;TZID=UTC:20170630T203000
DTEND;TZID=UTC:20170630T230000
DTSTAMP:20260424T150444
CREATED:20161227T045146Z
LAST-MODIFIED:20170108T050227Z
UID:250-1498854600-1498863600@www.tomwashatka.com
SUMMARY:Beckets Restaurant w/KWT
DESCRIPTION:2% jazz\, 98% funky stuff!  Lots-o-originals.
URL:https://www.tomwashatka.com/gigs/kwt-beckets-restaurant-4/
LOCATION:Beckets Restaurant\, 2 Jackson st\, Oshkosh\, WI\, 54901\, United States
END:VEVENT
END:VCALENDAR