BEGIN:VCALENDAR
VERSION:2.0
PRODID:-//Tom Washatka - ECPv6.0.1.1//NONSGML v1.0//EN
CALSCALE:GREGORIAN
METHOD:PUBLISH
X-ORIGINAL-URL:https://www.tomwashatka.com
X-WR-CALDESC:Events for Tom Washatka
REFRESH-INTERVAL;VALUE=DURATION:PT1H
X-Robots-Tag:noindex
X-PUBLISHED-TTL:PT1H
BEGIN:VTIMEZONE
TZID:UTC
BEGIN:STANDARD
TZOFFSETFROM:+0000
TZOFFSETTO:+0000
TZNAME:UTC
DTSTART:20180101T000000
END:STANDARD
END:VTIMEZONE
BEGIN:VEVENT
DTSTART;TZID=UTC:20180720T200000
DTEND;TZID=UTC:20180720T223000
DTSTAMP:20260420T143720
CREATED:20180526T203737Z
LAST-MODIFIED:20180526T204214Z
UID:816-1532116800-1532125800@www.tomwashatka.com
SUMMARY:Becket’s Restaurant w/KWT
DESCRIPTION:2% jazz\, 98% funky stuff! All original music.
URL:https://www.tomwashatka.com/gigs/beckets-restaurant-w-kwt-3/
LOCATION:Beckets Restaurant\, 2 Jackson st\, Oshkosh\, WI\, 54901\, United States
ATTACH;FMTTYPE=image/jpeg:https://www.tomwashatka.com/wp-content/uploads/2016/11/KWT.jpg
END:VEVENT
END:VCALENDAR