BEGIN:VCALENDAR
VERSION:2.0
PRODID:-//Tom Washatka - ECPv6.0.1.1//NONSGML v1.0//EN
CALSCALE:GREGORIAN
METHOD:PUBLISH
X-WR-CALNAME:Tom Washatka
X-ORIGINAL-URL:https://www.tomwashatka.com
X-WR-CALDESC:Events for Tom Washatka
REFRESH-INTERVAL;VALUE=DURATION:PT1H
X-Robots-Tag:noindex
X-PUBLISHED-TTL:PT1H
BEGIN:VTIMEZONE
TZID:UTC
BEGIN:STANDARD
TZOFFSETFROM:+0000
TZOFFSETTO:+0000
TZNAME:UTC
DTSTART:20180101T000000
END:STANDARD
END:VTIMEZONE
BEGIN:VEVENT
DTSTART;TZID=UTC:20180629T200000
DTEND;TZID=UTC:20180629T230000
DTSTAMP:20260420T225358
CREATED:20180421T050921Z
LAST-MODIFIED:20180421T053220Z
UID:786-1530302400-1530313200@www.tomwashatka.com
SUMMARY:Daly's Restaurant w/Tom Washatka Quorum
DESCRIPTION:With Scott Dercks – guitars\, Charlie Sauter – basses and Ryan Korb – drums.  Performing all original music.
URL:https://www.tomwashatka.com/gigs/dalys-restaurant-w-tom-washatka-quorum/
LOCATION:Daly’s Restaurant\, 307 3rd St\, Wausau\, WI\, 54403\, United States
END:VEVENT
END:VCALENDAR