BEGIN:VCALENDAR
VERSION:2.0
PRODID:-//Tom Washatka - ECPv6.0.1.1//NONSGML v1.0//EN
CALSCALE:GREGORIAN
METHOD:PUBLISH
X-WR-CALNAME:Tom Washatka
X-ORIGINAL-URL:https://www.tomwashatka.com
X-WR-CALDESC:Events for Tom Washatka
REFRESH-INTERVAL;VALUE=DURATION:PT1H
X-Robots-Tag:noindex
X-PUBLISHED-TTL:PT1H
BEGIN:VTIMEZONE
TZID:UTC
BEGIN:STANDARD
TZOFFSETFROM:+0000
TZOFFSETTO:+0000
TZNAME:UTC
DTSTART:20170101T000000
END:STANDARD
END:VTIMEZONE
BEGIN:VEVENT
DTSTART;TZID=UTC:20171207T190000
DTEND;TZID=UTC:20171207T220000
DTSTAMP:20260423T133340
CREATED:20171204T211114Z
LAST-MODIFIED:20171204T211114Z
UID:370-1512673200-1512684000@www.tomwashatka.com
SUMMARY:Gibson Music Hall w/KWT
DESCRIPTION:2% jazz\, 98% funky stuff!  All original music.
URL:https://www.tomwashatka.com/gigs/gibson-music-hall-w-kwt/
LOCATION:Gibson Music Hall\, 211 W College Ave\, Appleton\, WI\, 54911\, United States
END:VEVENT
END:VCALENDAR