BEGIN:VCALENDAR
VERSION:2.0
PRODID:-//Tom Washatka - ECPv6.0.1.1//NONSGML v1.0//EN
CALSCALE:GREGORIAN
METHOD:PUBLISH
X-WR-CALNAME:Tom Washatka
X-ORIGINAL-URL:https://www.tomwashatka.com
X-WR-CALDESC:Events for Tom Washatka
REFRESH-INTERVAL;VALUE=DURATION:PT1H
X-Robots-Tag:noindex
X-PUBLISHED-TTL:PT1H
BEGIN:VTIMEZONE
TZID:UTC
BEGIN:STANDARD
TZOFFSETFROM:+0000
TZOFFSETTO:+0000
TZNAME:UTC
DTSTART:20170101T000000
END:STANDARD
END:VTIMEZONE
BEGIN:VEVENT
DTSTART;TZID=UTC:20171103T200000
DTEND;TZID=UTC:20171103T223000
DTSTAMP:20260423T202652
CREATED:20170810T192301Z
LAST-MODIFIED:20170810T192301Z
UID:340-1509739200-1509748200@www.tomwashatka.com
SUMMARY:Beckets Restaurant w/KWT
DESCRIPTION:2% jazz\, 98% funky stuff! All original music.
URL:https://www.tomwashatka.com/gigs/beckets-restaurant-wkwt-2/
LOCATION:Beckets Restaurant\, 2 Jackson st\, Oshkosh\, WI\, 54901\, United States
END:VEVENT
END:VCALENDAR