BEGIN:VCALENDAR
VERSION:2.0
PRODID:-//Tom Washatka - ECPv6.0.1.1//NONSGML v1.0//EN
CALSCALE:GREGORIAN
METHOD:PUBLISH
X-WR-CALNAME:Tom Washatka
X-ORIGINAL-URL:https://www.tomwashatka.com
X-WR-CALDESC:Events for Tom Washatka
REFRESH-INTERVAL;VALUE=DURATION:PT1H
X-Robots-Tag:noindex
X-PUBLISHED-TTL:PT1H
BEGIN:VTIMEZONE
TZID:UTC
BEGIN:STANDARD
TZOFFSETFROM:+0000
TZOFFSETTO:+0000
TZNAME:UTC
DTSTART:20170101T000000
END:STANDARD
END:VTIMEZONE
BEGIN:VEVENT
DTSTART;TZID=UTC:20170921T200000
DTEND;TZID=UTC:20170921T230000
DTSTAMP:20260424T105219
CREATED:20170918T185952Z
LAST-MODIFIED:20170918T190107Z
UID:353-1506024000-1506034800@www.tomwashatka.com
SUMMARY:Gibson Music Hall w/KWT
DESCRIPTION:2% jazz\, 98% funky stuff!  All original music.
URL:https://www.tomwashatka.com/gigs/gibson-music-hall-wkwt/
LOCATION:Gibson Music Hall\, 211 W College Ave\, Appleton\, WI\, 54911\, United States
END:VEVENT
END:VCALENDAR