BEGIN:VCALENDAR
VERSION:2.0
PRODID:-//Tom Washatka - ECPv6.0.1.1//NONSGML v1.0//EN
CALSCALE:GREGORIAN
METHOD:PUBLISH
X-ORIGINAL-URL:https://www.tomwashatka.com
X-WR-CALDESC:Events for Tom Washatka
REFRESH-INTERVAL;VALUE=DURATION:PT1H
X-Robots-Tag:noindex
X-PUBLISHED-TTL:PT1H
BEGIN:VTIMEZONE
TZID:UTC
BEGIN:STANDARD
TZOFFSETFROM:+0000
TZOFFSETTO:+0000
TZNAME:UTC
DTSTART:20170101T000000
END:STANDARD
END:VTIMEZONE
BEGIN:VEVENT
DTSTART;TZID=UTC:20170902T141500
DTEND;TZID=UTC:20170902T150000
DTSTAMP:20260424T105324
CREATED:20170810T191132Z
LAST-MODIFIED:20170810T191132Z
UID:324-1504361700-1504364400@www.tomwashatka.com
SUMMARY:Fox Jazz Fest w/Tom Washatka Quorum
DESCRIPTION:All original music. \nJefferson Park
URL:https://www.tomwashatka.com/gigs/fox-jazz-fest-wtom-washatka-quorum/
LOCATION:WI
END:VEVENT
END:VCALENDAR