BEGIN:VCALENDAR
VERSION:2.0
PRODID:-//Tom Washatka - ECPv6.0.1.1//NONSGML v1.0//EN
CALSCALE:GREGORIAN
METHOD:PUBLISH
X-ORIGINAL-URL:https://www.tomwashatka.com
X-WR-CALDESC:Events for Tom Washatka
REFRESH-INTERVAL;VALUE=DURATION:PT1H
X-Robots-Tag:noindex
X-PUBLISHED-TTL:PT1H
BEGIN:VTIMEZONE
TZID:UTC
BEGIN:STANDARD
TZOFFSETFROM:+0000
TZOFFSETTO:+0000
TZNAME:UTC
DTSTART:20170101T000000
END:STANDARD
END:VTIMEZONE
BEGIN:VEVENT
DTSTART;TZID=UTC:20170504T180000
DTEND;TZID=UTC:20170504T200000
DTSTAMP:20260424T210506
CREATED:20161206T053649Z
LAST-MODIFIED:20170108T052005Z
UID:213-1493920800-1493928000@www.tomwashatka.com
SUMMARY:Lion's Tail Brewing Co. w/KWT
DESCRIPTION:2% jazz\, 98% funky stuff!  Lots-o-originals.
URL:https://www.tomwashatka.com/gigs/lions-tail-brewing-co-3/
LOCATION:Lion’s Tail Brewing Co.\, 116 S. Commercial St.\, Neenah\, WI\, 54956\, United States
END:VEVENT
END:VCALENDAR