BEGIN:VCALENDAR
VERSION:2.0
PRODID:-//Tom Washatka - ECPv6.0.1.1//NONSGML v1.0//EN
CALSCALE:GREGORIAN
METHOD:PUBLISH
X-WR-CALNAME:Tom Washatka
X-ORIGINAL-URL:https://www.tomwashatka.com
X-WR-CALDESC:Events for Tom Washatka
REFRESH-INTERVAL;VALUE=DURATION:PT1H
X-Robots-Tag:noindex
X-PUBLISHED-TTL:PT1H
BEGIN:VTIMEZONE
TZID:UTC
BEGIN:STANDARD
TZOFFSETFROM:+0000
TZOFFSETTO:+0000
TZNAME:UTC
DTSTART:20160101T000000
END:STANDARD
END:VTIMEZONE
BEGIN:VEVENT
DTSTART;TZID=UTC:20161222T203000
DTEND;TZID=UTC:20161222T223000
DTSTAMP:20260425T073059
CREATED:20161124T054017Z
LAST-MODIFIED:20161124T054017Z
UID:170-1482438600-1482445800@www.tomwashatka.com
SUMMARY:KWT - Grand Opera House
DESCRIPTION:2% jazz\, 98% funky stuff!  Lots-o-originals.
URL:https://www.tomwashatka.com/gigs/kwt-grand-opera-house/
LOCATION:Grand Opera House\, 100 High Ave\, Oshkosh\, WI\, 54901\, United States
END:VEVENT
END:VCALENDAR