BEGIN:VCALENDAR
VERSION:2.0
PRODID:-//Tom Washatka - ECPv6.0.1.1//NONSGML v1.0//EN
CALSCALE:GREGORIAN
METHOD:PUBLISH
X-WR-CALNAME:Tom Washatka
X-ORIGINAL-URL:https://www.tomwashatka.com
X-WR-CALDESC:Events for Tom Washatka
REFRESH-INTERVAL;VALUE=DURATION:PT1H
X-Robots-Tag:noindex
X-PUBLISHED-TTL:PT1H
BEGIN:VTIMEZONE
TZID:UTC
BEGIN:STANDARD
TZOFFSETFROM:+0000
TZOFFSETTO:+0000
TZNAME:UTC
DTSTART:20160101T000000
END:STANDARD
END:VTIMEZONE
BEGIN:VEVENT
DTSTART;TZID=UTC:20161210T190000
DTEND;TZID=UTC:20161210T220000
DTSTAMP:20260425T085039
CREATED:20161124T053316Z
LAST-MODIFIED:20161124T053316Z
UID:164-1481396400-1481407200@www.tomwashatka.com
SUMMARY:KWT X-Mas Party (private)
DESCRIPTION:
URL:https://www.tomwashatka.com/gigs/kwt-x-mas-party-private/
LOCATION:Sheraton West\, 706 John Nolen Dr\, Madison\, WI\, 53713\, United States
END:VEVENT
END:VCALENDAR