BEGIN:VCALENDAR
VERSION:2.0
PRODID:-//Tom Washatka - ECPv6.0.1.1//NONSGML v1.0//EN
CALSCALE:GREGORIAN
METHOD:PUBLISH
X-ORIGINAL-URL:https://www.tomwashatka.com
X-WR-CALDESC:Events for Tom Washatka
REFRESH-INTERVAL;VALUE=DURATION:PT1H
X-Robots-Tag:noindex
X-PUBLISHED-TTL:PT1H
BEGIN:VTIMEZONE
TZID:UTC
BEGIN:STANDARD
TZOFFSETFROM:+0000
TZOFFSETTO:+0000
TZNAME:UTC
DTSTART:20160101T000000
END:STANDARD
END:VTIMEZONE
BEGIN:VEVENT
DTSTART;TZID=UTC:20161201T180000
DTEND;TZID=UTC:20161201T200000
DTSTAMP:20260425T051841
CREATED:20161120T054135Z
LAST-MODIFIED:20161124T052741Z
UID:126-1480615200-1480622400@www.tomwashatka.com
SUMMARY:KWT - Lion's Tail Brewing Co.
DESCRIPTION:2% jazz\, 98% funky stuff! Lots-o-originals.
URL:https://www.tomwashatka.com/gigs/kwt-lions-tail-brewing-co/
LOCATION:Lion’s Tail Brewing Co.\, 116 S. Commercial St.\, Neenah\, WI\, 54956\, United States
END:VEVENT
END:VCALENDAR